BEGIN:VCALENDAR
VERSION:2.0
PRODID:-//Stephen Graham Jones - ECPv6.15.20//NONSGML v1.0//EN
CALSCALE:GREGORIAN
METHOD:PUBLISH
X-ORIGINAL-URL:https://www.stephengrahamjones.com
X-WR-CALDESC:Events for Stephen Graham Jones
REFRESH-INTERVAL;VALUE=DURATION:PT1H
X-Robots-Tag:noindex
X-PUBLISHED-TTL:PT1H
BEGIN:VTIMEZONE
TZID:America/Denver
BEGIN:DAYLIGHT
TZOFFSETFROM:-0700
TZOFFSETTO:-0600
TZNAME:MDT
DTSTART:20220313T090000
END:DAYLIGHT
BEGIN:STANDARD
TZOFFSETFROM:-0600
TZOFFSETTO:-0700
TZNAME:MST
DTSTART:20221106T080000
END:STANDARD
BEGIN:DAYLIGHT
TZOFFSETFROM:-0700
TZOFFSETTO:-0600
TZNAME:MDT
DTSTART:20230312T090000
END:DAYLIGHT
BEGIN:STANDARD
TZOFFSETFROM:-0600
TZOFFSETTO:-0700
TZNAME:MST
DTSTART:20231105T080000
END:STANDARD
BEGIN:DAYLIGHT
TZOFFSETFROM:-0700
TZOFFSETTO:-0600
TZNAME:MDT
DTSTART:20240310T090000
END:DAYLIGHT
BEGIN:STANDARD
TZOFFSETFROM:-0600
TZOFFSETTO:-0700
TZNAME:MST
DTSTART:20241103T080000
END:STANDARD
END:VTIMEZONE
BEGIN:VEVENT
DTSTART;TZID=America/Denver:20231004T190000
DTEND;TZID=America/Denver:20231004T200000
DTSTAMP:20260425T180103
CREATED:20230804T202950Z
LAST-MODIFIED:20230805T053807Z
UID:21520-1696446000-1696449600@www.stephengrahamjones.com
SUMMARY:Illinois Libraries Present
DESCRIPTION:
URL:https://www.stephengrahamjones.com/event/illinois-libraries-present/
CATEGORIES:library,Virtual Visit
END:VEVENT
BEGIN:VEVENT
DTSTART;TZID=America/Denver:20231011T170000
DTEND;TZID=America/Denver:20231011T180000
DTSTAMP:20260425T180103
CREATED:20230804T203511Z
LAST-MODIFIED:20230910T172145Z
UID:21528-1697043600-1697047200@www.stephengrahamjones.com
SUMMARY:Horror Lovers panel
DESCRIPTION:
URL:https://www.stephengrahamjones.com/event/horror-lovers-panel/
CATEGORIES:library,Virtual Visit
END:VEVENT
BEGIN:VEVENT
DTSTART;TZID=America/Denver:20231018T190000
DTEND;TZID=America/Denver:20231018T200000
DTSTAMP:20260425T180103
CREATED:20230804T203920Z
LAST-MODIFIED:20230808T210814Z
UID:21533-1697655600-1697659200@www.stephengrahamjones.com
SUMMARY:Loveland Library
DESCRIPTION:More info as I get it . . .
URL:https://www.stephengrahamjones.com/event/loveland-library/
LOCATION:mountain view high school
CATEGORIES:in-person,library
END:VEVENT
BEGIN:VEVENT
DTSTART;VALUE=DATE:20231020
DTEND;VALUE=DATE:20231022
DTSTAMP:20260425T180103
CREATED:20230804T204109Z
LAST-MODIFIED:20230825T050613Z
UID:21536-1697760000-1697932799@www.stephengrahamjones.com
SUMMARY:Storyfest
DESCRIPTION:Get to interview Neil Gaiman on Friday night:
URL:https://www.stephengrahamjones.com/event/storyfest-3/
CATEGORIES:Con,in-person,library
END:VEVENT
END:VCALENDAR